BEGIN:VCALENDAR
VERSION:2.0
PRODID:-//ChamberMaster//Event Calendar 2.0//EN
METHOD:PUBLISH
X-PUBLISHED-TTL:P3D
REFRESH-INTERVAL:P3D
CALSCALE:GREGORIAN
BEGIN:VEVENT
DTSTART:20180602T140000Z
DTEND:20180602T160000Z
X-MICROSOFT-CDO-ALLDAYEVENT:FALSE
SUMMARY:Children's Book Swap
DESCRIPTION:During the week prior to the Book Swap\, bring up to five very good condition books for ages birth through 6th grade to the Children's Department. You will receive a ticket for each accepted book to exchange for a new-to-you book during the Book Swap on June 2. Book Swappers will also have a chance to win new books. Book drop off: Tuesday\, May 29 through Friday\, June 1 Book Swap event: Saturday\, June 2\, 10am-noon
X-ALT-DESC;FMTTYPE=text/html:During the week prior to the Book Swap\, bring up to five very good condition books for ages birth through 6th grade to the Children&#39\;s Department. You will receive a ticket for each accepted book to exchange for a new-to-you book during the Book Swap on June 2. Book Swappers will also have a chance to win new books. Book drop off: Tuesday\, May 29 through Friday\, June 1 Book Swap event: Saturday\, June 2\, 10am-noon
LOCATION:Granville Public Library Children's Department
UID:e.180.11981
SEQUENCE:3
DTSTAMP:20260419T170531Z
URL:http://business.granvilleoh.com/events/details/children-s-book-swap-11981
END:VEVENT

END:VCALENDAR
