BEGIN:VCALENDAR
VERSION:2.0
PRODID:-//ChamberMaster//Event Calendar 2.0//EN
METHOD:PUBLISH
X-PUBLISHED-TTL:P3D
REFRESH-INTERVAL:P3D
CALSCALE:GREGORIAN
BEGIN:VEVENT
DTSTART:20190917T230000Z
DTEND:20190918T003000Z
X-MICROSOFT-CDO-ALLDAYEVENT:FALSE
SUMMARY:Chinese Politics: Global and National
DESCRIPTION:with Michelle S. Mood\, Assistant Professor of Political Science and Asian Studies at Kenyon College China has succeeded in uplifting hundreds of millions of Chinese from abject poverty using a combination of markets and control\, and its global presence uses the same combination. What are the most salient aspects of China's domestic political economy and its foreign reach? In highlighting the promise and menace of the "China dream\," this talk explores the logic behind China's external reach -- China's Belt and Road Initiative\, expansion into the Americas\, and aspirations in the South China Sea - and internal control - the anti-corruption drive\, the Muslim detention camps\, and the social credit system.
X-ALT-DESC;FMTTYPE=text/html:with Michelle S. Mood\, Assistant Professor of Political Science and Asian Studies at Kenyon College China has succeeded in uplifting hundreds of millions of Chinese from abject poverty using a combination of markets and control\, and its global presence uses the same combination. What are the most salient aspects of China&#39\;s domestic political economy and its foreign reach? In highlighting the promise and menace of the &quot\;China dream\,&quot\; this talk explores the logic behind China&#39\;s external reach -- China&#39\;s Belt and Road Initiative\, expansion into the Americas\, and aspirations in the South China Sea - and internal control - the anti-corruption drive\, the Muslim detention camps\, and the social credit system.
LOCATION:Granville Public Library
UID:e.180.12793
SEQUENCE:3
DTSTAMP:20260422T115901Z
URL:http://business.granvilleoh.com/events/details/chinese-politics-global-and-national-12793
END:VEVENT

END:VCALENDAR
