BEGIN:VCALENDAR
VERSION:2.0
PRODID:-//ChamberMaster//Event Calendar 2.0//EN
METHOD:PUBLISH
X-PUBLISHED-TTL:P3D
REFRESH-INTERVAL:P3D
CALSCALE:GREGORIAN
BEGIN:VEVENT
DTSTART:20181213T163000Z
DTEND:20181213T173000Z
X-MICROSOFT-CDO-ALLDAYEVENT:FALSE
SUMMARY:Chowder Hour: ‘Defining Childhood: Growing up in the US (1860-1940)’
DESCRIPTION:Denison University presents Chowder Hour: "Defining Childhood: Growing up in the US (1860-1940)." Andrea Lourie\, Miranda Sachs\, and Megan Hancock present an informal discussion about the education\, science\, history\, and art featured in the "Defining Childhood: Growing up in the US (1860-1940)" exhibition at the Denison Museum.
X-ALT-DESC;FMTTYPE=text/html:<span style="color:rgb(0\, 0\, 0)\; font-family:verdana\,geneva\,sans-serif\; font-size:12px"><span style="font-family:arial\; font-size:11pt">Denison University presents Chowder Hour: &ldquo\;Defining Childhood: Growing up in the US (1860-1940).&rdquo\; </span></span><span style="color:rgb(0\, 0\, 0)\; font-family:verdana\,geneva\,sans-serif\; font-size:12px"><span style="font-family:arial\; font-size:11pt">Andrea Lourie\, Miranda Sachs\, and Megan Hancock present an informal discussion about the education\, science\, history\, and art featured in the &ldquo\;Defining Childhood: Growing up in the US (1860-1940)&rdquo\; exhibition at the Denison Museum.</span></span>
LOCATION:Denison University Denison Museum 240 West Broadway
UID:e.180.12267
SEQUENCE:3
DTSTAMP:20260420T011330Z
URL:http://business.granvilleoh.com/events/details/chowder-hour-defining-childhood-growing-up-in-the-us-1860-1940-12267
END:VEVENT

END:VCALENDAR
