BEGIN:VCALENDAR
VERSION:2.0
PRODID:-//ChamberMaster//Event Calendar 2.0//EN
METHOD:PUBLISH
X-PUBLISHED-TTL:P3D
REFRESH-INTERVAL:P3D
CALSCALE:GREGORIAN
BEGIN:VEVENT
DTSTART:20191212T163000Z
DTEND:20191212T183000Z
X-MICROSOFT-CDO-ALLDAYEVENT:FALSE
SUMMARY:Chowder Hour Luncheon with resident artist Michael Stickrod and Erin Kirwin
DESCRIPTION:Join Licking County Ohio artist Michael Stickrod and Erin Kirwin\, a local naturopathic doctor for a Chowder Hour Luncheon during their four month residency at Denison Art Space in Newark. They will be collaborating on a large scale installation using materials from their Licking County home and environment\, as well as creating a bar to serve teas sourced from wild plants of the forests and pastures where they live with their two children.\n\nAs facilitators\, Stickrod + Kirwin will have open tea sessions throughout their residency at DASIN as a place to inspire dialogue with students and community. Stickrod + Kirwin will work with Denison faculty and students in Music\, Studio Art\, Biology\, Creative Writing\, Environmental Studies and Theatre classes as well as Wellness Center staff to create an interdisciplinary installation at Denison Art Space in Newark. Stickrod + Kirwin residency is made possible by Mellon's Arts Across the Curriculum grant at Denison University.\n\nSpace is limited and reservations are required. Email Cookie Sunkle at sunkle@denison.edu to make reservations by Tuesday\, Dec. 10.
X-ALT-DESC;FMTTYPE=text/html:<div>\n<div>\n<div>\n<div>\n<div>\n<div>\n<div>\n<div>\n<p>Join Licking County Ohio artist&nbsp\;Michael Stickrod and&nbsp\;Erin Kirwin\, a local naturopathic doctor for a Chowder Hour Luncheon during their four month residency at Denison Art Space in Newark. They will be collaborating on a large scale installation using materials from their Licking County home and environment\, as well as creating a bar to serve teas sourced from wild plants of the forests and pastures where they live with their two children.</p>\n\n<p>As facilitators\, Stickrod + Kirwin will have open tea sessions throughout their residency at DASIN as a place to inspire dialogue with students and community. Stickrod + Kirwin will work with Denison faculty and students in Music\, Studio Art\, Biology\, Creative Writing\, Environmental Studies and Theatre classes as well as Wellness Center staff to create an interdisciplinary installation at Denison Art Space in Newark. Stickrod + Kirwin residency is made possible by Mellon&rsquo\;s Arts Across the Curriculum grant at Denison University.</p>\n\n<p>Space is limited and reservations are required. Email Cookie Sunkle at&nbsp\;<a href="mailto:sunkle@denison.edu" style="color: rgb(162\, 2\, 35)\; text-decoration-line: none\; transition: all 0.25s cubic-bezier(0.55\, 0.085\, 0\, 0.99) 0s\; padding-bottom: 2px\; border-bottom: 1px dotted rgb(221\, 221\, 221)\;" target="_blank">sunkle@denison.edu</a>&nbsp\;to make reservations by Tuesday\, Dec. 10.</p>\n\n<div>&nbsp\;</div>\n</div>\n</div>\n</div>\n</div>\n</div>\n</div>\n</div>\n</div>\n
LOCATION:Denison Art Space in Newark 23 W Church St
UID:e.180.14000
SEQUENCE:3
DTSTAMP:20260422T161259Z
URL:http://business.granvilleoh.com/events/details/chowder-hour-luncheon-with-resident-artist-michael-stickrod-and-erin-kirwin-14000
END:VEVENT

END:VCALENDAR
