BEGIN:VCALENDAR
VERSION:2.0
PRODID:-//ChamberMaster//Event Calendar 2.0//EN
METHOD:PUBLISH
X-PUBLISHED-TTL:P3D
REFRESH-INTERVAL:P3D
CALSCALE:GREGORIAN
BEGIN:VEVENT
DTSTART:20181201T180000Z
DTEND:20181202T020000Z
X-MICROSOFT-CDO-ALLDAYEVENT:FALSE
SUMMARY:Christmas Candlelight Walking Tour
DESCRIPTION:For a Schedule of Events: on the Events Tab\, Click 'Schedule for Christmas Candlelight Walking Tour'\n\n \n\nChristmas Candlelight\n\nWalking Tour\n\n\n\nThere is no better way to get into the holiday spirit than in the quaint\, New England-style village of Granville.  This year marks the 33rd year that the Village of Granville has entertained thousands of visitors and residents at the Christmas Candlelight Walking Tour. \n\nGranville's Christmas Candlelight Walking Tour lights up the town the first Saturday of each December\, capturing the essence of an old-fashioned Christmas. A festive mood is created at this holiday event as visitors discover the spirit of the season amidst the glow of twinkling Christmas lights and luminaries\, the sounds of carolers and musicians\, and the happy laughter of children as they sit on Santa's knee.\n\n \n\nStroll along the streets lined with live Christmas trees aglow with sparkling lights and hundreds of luminaries. Find special gifts at unique shops\, and dine in a variety of restaurants. Enjoy a horse-drawn carriage ride\, holiday music at area churches\, or visit our museums and businesses that host a multitude of special events and activities.\n\n \n\nTimed events that have become family favorites occur at locations around town\, such as children's events at the Village Hall\; Santa and Mrs. Clause at the Robbins Hunter Museum\; Christmas Train exhibits at the library\; theatre and music at Denison University\; and musical attractions at local businesses.  \n\n \n\nThis annual event is chaired by the Granville Area Chamber of Commerce and is free to the public.
X-ALT-DESC;FMTTYPE=text/html:<p style="text-align: center"><strong><span style="font-size: 14px"><span style="color: #ff0000"><span style="color: red"><span style="font-family: edwardian script itc"><span style="font-family: times new roman">For a Schedule of Events: on the Events Tab\, Click &#39\;Schedule for Christmas Candlelight Walking Tour&#39\;</span></span></span></span></span><br />\n&nbsp\;</strong></p>\n\n<p style="text-align: center"><span style="font-family: times new roman"><span style="font-size: 16px"><strong><span style="color: #ff0000"><span style="font-size: 36px"><strong><em><span style="color: red"><span style="font-family: edwardian script itc">Christmas Candlelight<br />\nWalking Tour</span></span></em></strong></span></span></strong></span></span><br />\n<br />\n<span style="font-family: times new roman"><span style="font-size: 16px"><strong><span style="color: #ff0000"><span style="font-family: times new roman"><span style="color: #4f81bd"><span style="font-size: medium">There is no better way to get into the holiday spirit than in the quaint\, New England-style village of Granville.&nbsp\; This year marks the 33rd year that the Village of Granville has entertained thousands of visitors and residents at the&nbsp\;Christmas Candlelight Walking Tour.&nbsp\;</span></span></span><br />\n<span style="color: #4f81bd"><span style="font-size: medium"><span style="font-family: times new roman">Granville&#39\;s Christmas Candlelight Walking Tour lights up the town the first Saturday of each December\, capturing the essence of an old-fashioned Christmas.&nbsp\;A festive mood is created at this holiday event as visitors discover the spirit of the season amidst the glow of twinkling Christmas lights and luminaries\, the sounds of&nbsp\;carolers and musicians\, and the happy laughter&nbsp\;of children as they sit on Santa&#39\;s knee.</span></span></span><br />\n&nbsp\;<br />\n<span style="color: #4f81bd"><span style="font-size: medium"><span style="font-family: times new roman">Stroll along the streets lined with live Christmas trees aglow with sparkling&nbsp\;lights and hundreds of luminaries.&nbsp\;Find&nbsp\;special gifts&nbsp\;at&nbsp\;unique shops\, and&nbsp\;dine in a variety of restaurants. Enjoy a&nbsp\;horse-drawn carriage ride\,&nbsp\;holiday music at area churches\, or visit our&nbsp\;museums and businesses that host a multitude of special events and activities.</span></span></span><br />\n&nbsp\;<br />\n<span style="color: #4f81bd"><span style="font-size: medium"><span style="font-family: times new roman">Timed events&nbsp\;that have become family favorites occur at locations around town\, such as children&#39\;s events at the Village Hall\; Santa and Mrs. Clause at the Robbins Hunter Museum\;&nbsp\;Christmas Train exhibits at the library\;&nbsp\;theatre and music at Denison University\;&nbsp\;and musical attractions at local businesses.&nbsp\;&nbsp\;</span></span></span><br />\n&nbsp\;<br />\n<span style="color: #4f81bd"><span style="font-size: medium"><span style="font-family: times new roman">This annual&nbsp\;event is chaired by the Granville Area Chamber of Commerce and is free to the public.&nbsp\;&nbsp\;</span></span></span><br />\n&nbsp\;<br />\n&nbsp\;</span></strong></span></span><br />\n&nbsp\;</p>\n
LOCATION:Granville\, Ohio 43023
UID:e.180.2237
SEQUENCE:3
DTSTAMP:20260419T233823Z
URL:http://business.granvilleoh.com/events/details/christmas-candlelight-walking-tour-12-01-2018-2237
END:VEVENT

END:VCALENDAR
