BEGIN:VCALENDAR
VERSION:2.0
PRODID:-//ChamberMaster//Event Calendar 2.0//EN
METHOD:PUBLISH
X-PUBLISHED-TTL:P3D
REFRESH-INTERVAL:P3D
CALSCALE:GREGORIAN
BEGIN:VEVENT
DTSTART:20180915T190000Z
DTEND:20180915T210000Z
X-MICROSOFT-CDO-ALLDAYEVENT:FALSE
SUMMARY:Closing reception for 'Fragment’ exhibition
DESCRIPTION:A closing reception for Denison University's "Fragment" exhibition\, the third show of the ongoing 'City Series.'
X-ALT-DESC;FMTTYPE=text/html:<span style="background-color:transparent\; color:rgb(0\, 0\, 0)\; font-family:arial\; font-size:11pt">A closing reception for Denison University&rsquo\;s &ldquo\;Fragment&rdquo\; exhibition\, the third show of the ongoing &#39\;City Series.&#39\;</span>
LOCATION:Denison Art Space in Newark 23 West Church
UID:e.180.12123
SEQUENCE:3
DTSTAMP:20260419T193232Z
URL:http://business.granvilleoh.com/events/details/closing-reception-for-fragment-exhibition-12123
END:VEVENT

END:VCALENDAR
