BEGIN:VCALENDAR
VERSION:2.0
PRODID:-//ChamberMaster//Event Calendar 2.0//EN
METHOD:PUBLISH
X-PUBLISHED-TTL:P3D
REFRESH-INTERVAL:P3D
CALSCALE:GREGORIAN
BEGIN:VEVENT
DTSTART:20190722T170000Z
DTEND:20190722T173000Z
X-MICROSOFT-CDO-ALLDAYEVENT:FALSE
SUMMARY:Clyde-the-Coyote-is-Not-a-Puppet Theater
DESCRIPTION:Clyde the Coyote (who is NOT a puppet) presents a puppet show- Clyde's last show for the summer!
X-ALT-DESC;FMTTYPE=text/html:Clyde the Coyote (who is NOT a puppet) presents a puppet show- Clyde&#39\;s last show for the summer!
LOCATION:Granville Public Library
UID:e.180.12732
SEQUENCE:3
DTSTAMP:20260422T085233Z
URL:http://business.granvilleoh.com/events/details/clyde-the-coyote-is-not-a-puppet-theater-07-22-2019-12732
END:VEVENT

END:VCALENDAR
