BEGIN:VCALENDAR
VERSION:2.0
PRODID:-//ChamberMaster//Event Calendar 2.0//EN
METHOD:PUBLISH
X-PUBLISHED-TTL:P3D
REFRESH-INTERVAL:P3D
CALSCALE:GREGORIAN
BEGIN:VEVENT
DTSTART:20190603T170000Z
DTEND:20190603T173000Z
X-MICROSOFT-CDO-ALLDAYEVENT:FALSE
SUMMARY:Clyde-the-Coyote-is-NOT-a-Puppet Theater
DESCRIPTION:Clyde the Coyote (who is NOT a puppet) presents a puppet show. Wump Mucket Puppets\, a touring puppet show\, performs on July 8. Families
X-ALT-DESC;FMTTYPE=text/html:Clyde the Coyote (who is NOT a puppet) presents a puppet show. Wump Mucket Puppets\, a touring puppet show\, performs on July 8. Families
LOCATION:Granville Public Library
UID:e.180.12653
SEQUENCE:3
DTSTAMP:20260420T080726Z
URL:http://business.granvilleoh.com/events/details/clyde-the-coyote-is-not-a-puppet-theater-12653
END:VEVENT

END:VCALENDAR
