BEGIN:VCALENDAR
VERSION:2.0
PRODID:-//ChamberMaster//Event Calendar 2.0//EN
METHOD:PUBLISH
X-PUBLISHED-TTL:P3D
REFRESH-INTERVAL:P3D
CALSCALE:GREGORIAN
BEGIN:VEVENT
DTSTART:20190212T143000Z
DTEND:20190212T153000Z
X-MICROSOFT-CDO-ALLDAYEVENT:FALSE
SUMMARY:Coffee Talk - INSTAGRAM 101 - This session for BEGINNERS!
DESCRIPTION:Join Michelle Newman at the creative COOP for an interactive coffee chat about Instagram and how it can help connect your business with a local (and wider!) audience. Bring your own coffee and your questions about how Instagram works. This session will be interactive - get ready to explore hashtags\, checking in\, and quick phone photo basics. Don't have an Instagram account yet? This session is aimed specifically at Instagram 'raw beginners'!  Feel free to attend if you are thinking of adding it into your social media presence! No RSVP necessary.
X-ALT-DESC;FMTTYPE=text/html:<span style="font-family:times new roman\,serif\;"><span style="font-size:12.0pt\;">Join Michelle Newman at the creative COOP for an interactive coffee chat about Instagram and how it can help connect your business with a local (and wider!) audience. Bring your own coffee and your questions about how Instagram works. This session will be interactive - get ready to explore hashtags\, checking in\, and quick phone photo basics. <strong>Don&#39\;t have an Instagram account yet? This session is aimed specifically at Instagram &#39\;raw beginners&#39\;!&nbsp\;</strong> Feel free to attend if you are thinking of adding it into your social media presence! No RSVP necessary.</span></span>
LOCATION:The creative COOP 119 W. Broadway Granville\, OH 43023 (in the Annex Building next door to the United Church of Granville)
UID:e.180.12453
SEQUENCE:3
DTSTAMP:20260420T022540Z
URL:http://business.granvilleoh.com/events/details/coffee-talk-instagram-101-this-session-for-beginners-12453
END:VEVENT

END:VCALENDAR
