BEGIN:VCALENDAR
VERSION:2.0
PRODID:-//ChamberMaster//Event Calendar 2.0//EN
METHOD:PUBLISH
X-PUBLISHED-TTL:P3D
REFRESH-INTERVAL:P3D
CALSCALE:GREGORIAN
BEGIN:VEVENT
DTSTART:20190312T133000Z
DTEND:20190312T143000Z
X-MICROSOFT-CDO-ALLDAYEVENT:FALSE
SUMMARY:Coffee Talk - INSTAGRAM 201
DESCRIPTION:For our March Pro-Tips\, with your feedback from the previous months' workshops\, COOP partner\, director\, entrepreneur coach\, and branding whiz\, Jodi Melfi\, will be digging deeper into "Building Your Instagram Audience." We will explore what it means to find and interact with followers meaningful to your business. We'll also field your questions - bring your list!!!\n\nNo RSVP necessary!
X-ALT-DESC;FMTTYPE=text/html:<span style="font-family:times new roman\,serif\;"><span style="font-size:12.0pt\;">For our March Pro-Tips\, with your feedback from the previous months&#39\; workshops\, COOP partner\, director\, entrepreneur coach\, and&nbsp\;branding whiz\, Jodi Melfi\, will be digging deeper into &quot\;Building Your Instagram Audience.&quot\; We will explore what it means to find and interact with followers meaningful to your business. We&rsquo\;ll also field your questions - bring your list!!!<br />\nNo RSVP necessary!</span></span>
LOCATION:The creative COOP 119 W. Broadway Granville\, OH 43023 (in the Annex Building next door to the United Church of Granville)
UID:e.180.12549
SEQUENCE:3
DTSTAMP:20260420T034057Z
URL:http://business.granvilleoh.com/events/details/coffee-talk-instagram-201-12549
END:VEVENT

END:VCALENDAR
