BEGIN:VCALENDAR
VERSION:2.0
PRODID:-//ChamberMaster//Event Calendar 2.0//EN
METHOD:PUBLISH
X-PUBLISHED-TTL:P3D
REFRESH-INTERVAL:P3D
CALSCALE:GREGORIAN
BEGIN:VEVENT
DTSTART:20180927T230000Z
DTEND:20180928T000000Z
X-MICROSOFT-CDO-ALLDAYEVENT:FALSE
SUMMARY:College Just Ahead! Show Me the $$$!
DESCRIPTION:For families who will not qualify for much financial aid\, do not miss this! You'll leave with valuable takeaways on how to search for scholarships\, how to leverage your student's academic profile when applying\, and how to understand a college's net price. Each student is unique and so is every family's financial situation. This strategizing session will map out a timeline for you (and your student) to prepare financially. For parents of students in grades 9-12 although any age range is welcome! Students are encouraged to attend with their parents. Presented by Amber Gilsdorf\, Independent Educational Consultant with Estrela Consulting and former school counselor at Granville High School.
X-ALT-DESC;FMTTYPE=text/html:For families who will not qualify for much financial aid\, do not miss this! You&#39\;ll leave with valuable takeaways on how to search for scholarships\, how to leverage your student&#39\;s academic profile when applying\, and how to understand a college&#39\;s net price. Each student is unique and so is every family&#39\;s financial situation. This strategizing session will map out a timeline for you (and your student) to prepare financially. For parents of students in grades 9-12 although any age range is welcome! Students are encouraged to attend with their parents. Presented by Amber Gilsdorf\, Independent Educational Consultant with Estrela Consulting and former school counselor at Granville High School.
LOCATION:Granville Public Library
UID:e.180.12117
SEQUENCE:3
DTSTAMP:20260419T193559Z
URL:http://business.granvilleoh.com/events/details/college-just-ahead-show-me-the-12117
END:VEVENT

END:VCALENDAR
