BEGIN:VCALENDAR
VERSION:2.0
PRODID:-//ChamberMaster//Event Calendar 2.0//EN
METHOD:PUBLISH
X-PUBLISHED-TTL:P3D
REFRESH-INTERVAL:P3D
CALSCALE:GREGORIAN
BEGIN:VEVENT
DTSTART:20190925T163000Z
DTEND:20190925T173000Z
X-MICROSOFT-CDO-ALLDAYEVENT:FALSE
SUMMARY:Community Book Club
DESCRIPTION:All community members\, entrepreneurs\, and small business owners are invited to bring their lunch and attend the Community Book Club held at the Creative COOP. This month we're reading The Moment of Lift: How Empowering Women Changes the World by Melinda Gates. Copies are available at the main desk of the Granville Public Library.
X-ALT-DESC;FMTTYPE=text/html:All community members\, entrepreneurs\, and small business owners are invited to bring their lunch and attend the Community Book Club held at the Creative COOP. This month we&#39\;re reading The Moment of Lift: How Empowering Women Changes the World by Melinda Gates. Copies are available at the main desk of the Granville Public Library.
LOCATION:Creative COOP\, 119 W. Broadway
UID:e.180.12832
SEQUENCE:3
DTSTAMP:20260422T115727Z
URL:http://business.granvilleoh.com/events/details/community-book-club-09-25-2019-12832
END:VEVENT

END:VCALENDAR
