BEGIN:VCALENDAR
VERSION:2.0
PRODID:-//ChamberMaster//Event Calendar 2.0//EN
METHOD:PUBLISH
X-PUBLISHED-TTL:P3D
REFRESH-INTERVAL:P3D
CALSCALE:GREGORIAN
BEGIN:VEVENT
DTSTART:20191023T163000Z
DTEND:20191023T173000Z
X-MICROSOFT-CDO-ALLDAYEVENT:FALSE
SUMMARY:Community Book Club
DESCRIPTION:All community members\, entrepreneurs\, and small business owners are invited to bring their lunch and attend the Community Book Club held at the Creative COOP. In October\, we're reading Why Not Me? by Mindy Kaling. Copies are available at Granville Public Library's main desk. Meet at the Creative COOP\, 119 W. Broadway
X-ALT-DESC;FMTTYPE=text/html:All community members\, entrepreneurs\, and small business owners are invited to bring their lunch and attend the Community Book Club held at the Creative COOP. In October\, we&#39\;re reading Why Not Me? by Mindy Kaling. Copies are available at Granville Public Library&#39\;s main desk. Meet at the Creative COOP\, 119 W. Broadway
LOCATION:Creative COOP\, 119 W. Broadway
UID:e.180.12883
SEQUENCE:3
DTSTAMP:20260422T131647Z
URL:http://business.granvilleoh.com/events/details/community-book-club-10-23-2019-12883
END:VEVENT

END:VCALENDAR
