BEGIN:VCALENDAR
VERSION:2.0
PRODID:-//ChamberMaster//Event Calendar 2.0//EN
METHOD:PUBLISH
X-PUBLISHED-TTL:P3D
REFRESH-INTERVAL:P3D
CALSCALE:GREGORIAN
BEGIN:VEVENT
DTSTART:20191113T173000Z
DTEND:20191113T183000Z
X-MICROSOFT-CDO-ALLDAYEVENT:FALSE
SUMMARY:Community Book Club
DESCRIPTION:We're reading Brazen: Rebel Ladies Who Rocked the World by Penelope Bagieu. Bring a lunch if you'd like and join us at the Creative COOP\, 119 W. Broadway. All community members\, entrepreneurs\, and small business owners are invited to attend.
X-ALT-DESC;FMTTYPE=text/html:We&#39\;re reading Brazen: Rebel Ladies Who Rocked the World by Penelope Bagieu. Bring a lunch if you&#39\;d like and join us at the Creative COOP\, 119 W. Broadway. All community members\, entrepreneurs\, and small business owners are invited to attend.
LOCATION:Creative COOP\, 119 W Broadway
UID:e.180.13948
SEQUENCE:3
DTSTAMP:20260422T144903Z
URL:http://business.granvilleoh.com/events/details/community-book-club-11-13-2019-13948
END:VEVENT

END:VCALENDAR
