BEGIN:VCALENDAR
VERSION:2.0
PRODID:-//ChamberMaster//Event Calendar 2.0//EN
METHOD:PUBLISH
X-PUBLISHED-TTL:P3D
REFRESH-INTERVAL:P3D
CALSCALE:GREGORIAN
BEGIN:VEVENT
DTSTART:20190828T163000Z
DTEND:20190828T173000Z
X-MICROSOFT-CDO-ALLDAYEVENT:FALSE
SUMMARY:Community Book Club
DESCRIPTION:Join us at the Creative COOP\, 119 W Broadway. to discuss "Wolfpack" by Abby Wambach\, US Women's Soccer team veteran. Bring your lunch and join us for this book discussion with a small business focus. Copies are available at the library's main desk.
X-ALT-DESC;FMTTYPE=text/html:Join us at the Creative COOP\, 119 W Broadway. to discuss &quot\;Wolfpack&quot\; by Abby Wambach\, US Women&#39\;s Soccer team veteran. Bring your lunch and join us for this book discussion with a small business focus. Copies are available at the library&#39\;s main desk.
LOCATION:Creative COOP
UID:e.180.12753
SEQUENCE:3
DTSTAMP:20260422T102733Z
URL:http://business.granvilleoh.com/events/details/community-book-club-12753
END:VEVENT

END:VCALENDAR
