BEGIN:VCALENDAR
VERSION:2.0
PRODID:-//ChamberMaster//Event Calendar 2.0//EN
METHOD:PUBLISH
X-PUBLISHED-TTL:P3D
REFRESH-INTERVAL:P3D
CALSCALE:GREGORIAN
BEGIN:VEVENT
DTSTART:20190820T180000Z
DTEND:20190820T193000Z
X-MICROSOFT-CDO-ALLDAYEVENT:FALSE
SUMMARY:Coping With Dementias - A Class for Caregivers
DESCRIPTION:Are you caring for a loved one with dementia and need ideas on how to help him/her live safely at home? Join Cathy Creekmore\, Home Instead Senior Care's Development and Training Coordinator\, at our Granville Office to discuss ideas and options on how to keep your loved one calm\, happy and safe while living at home. \n\nPlease RSVP. Contact Cathy if you have questions about the class: 740-321-3330 or cathy.creekmore@homeinstead.com.
X-ALT-DESC;FMTTYPE=text/html:<span style="color:rgb(29\, 33\, 41)\; font-family:system-ui\,-apple-system\,system-ui\,.sfnstext-regular\,sans-serif\; font-size:14px">Are you caring for a loved one with dementia and need ideas on how to help him/her live safely at home? Join Cathy Creekmore\, Home Instead Senior Care&rsquo\;s Development and Training Coordinator\, at our Granville Office to discuss ideas and options on how to keep your loved one calm\, happy and safe while living at home. </span><br />\n<span style="color:rgb(29\, 33\, 41)\; font-family:system-ui\,-apple-system\,system-ui\,.sfnstext-regular\,sans-serif\; font-size:14px">Please RSVP. Contact Cathy if you have questions about the class: 740-321-3330 or cathy.creekmore@homeinstead.com.</span>
LOCATION:Home Instead Senior Care 1893 Columbus Road\, Granville\, OH 43023
UID:e.180.12763
SEQUENCE:3
DTSTAMP:20260422T102559Z
URL:http://business.granvilleoh.com/events/details/coping-with-dementias-a-class-for-caregivers-12763
END:VEVENT

END:VCALENDAR
