BEGIN:VCALENDAR
VERSION:2.0
PRODID:-//ChamberMaster//Event Calendar 2.0//EN
METHOD:PUBLISH
X-PUBLISHED-TTL:P3D
REFRESH-INTERVAL:P3D
CALSCALE:GREGORIAN
BEGIN:VEVENT
DTSTART:20190725T150000Z
DTEND:20190725T160000Z
X-MICROSOFT-CDO-ALLDAYEVENT:FALSE
SUMMARY:COSI's Astronomy Academy
DESCRIPTION:Construct a room-sized model of the relative size of and distance between the planets\, then take on role of an aerospace engineer to design\, build\, test\, and redesign your own extreme paper rockets and space bases. Rising Grades 3 to 6
X-ALT-DESC;FMTTYPE=text/html:Construct a room-sized model of the relative size of and distance between the planets\, then take on role of an aerospace engineer to design\, build\, test\, and redesign your own extreme paper rockets and space bases. Rising Grades 3 to 6
LOCATION:Granville Public Library
UID:e.180.12741
SEQUENCE:3
DTSTAMP:20260422T115441Z
URL:http://business.granvilleoh.com/events/details/cosi-s-astronomy-academy-12741
END:VEVENT

END:VCALENDAR
