BEGIN:VCALENDAR
VERSION:2.0
PRODID:-//ChamberMaster//Event Calendar 2.0//EN
METHOD:PUBLISH
X-PUBLISHED-TTL:P3D
REFRESH-INTERVAL:P3D
CALSCALE:GREGORIAN
BEGIN:VEVENT
DTSTART:20190427T140000Z
DTEND:20190427T150000Z
X-MICROSOFT-CDO-ALLDAYEVENT:FALSE
SUMMARY:COSI Try-It-Together Workshop: Weather
DESCRIPTION:Preschoolers will learn about weather through hands-on learning. 3 to 5 years old For this program\, COSI requires a one-to-one adult-to-child ration. Families with multiple children must come with an additional adult for each additional child. Registration required and limited to 20 children with an accompanying adult. Each single registration will indicate an adult/child team. Register at Granvillelibrary.org/calendar
X-ALT-DESC;FMTTYPE=text/html:Preschoolers will learn about weather through hands-on learning. 3 to 5 years old For this program\, COSI requires a one-to-one adult-to-child ration. Families with multiple children must come with an additional adult for each additional child. Registration required and limited to 20 children with an accompanying adult. Each single registration will indicate an adult/child team. Register at Granvillelibrary.org/calendar
LOCATION:Granville Public Library
UID:e.180.12566
SEQUENCE:3
DTSTAMP:20260420T050750Z
URL:http://business.granvilleoh.com/events/details/cosi-try-it-together-workshop-weather-12566
END:VEVENT

END:VCALENDAR
