BEGIN:VCALENDAR
VERSION:2.0
PRODID:-//ChamberMaster//Event Calendar 2.0//EN
METHOD:PUBLISH
X-PUBLISHED-TTL:P3D
REFRESH-INTERVAL:P3D
CALSCALE:GREGORIAN
BEGIN:VEVENT
DTSTART:20190612T223000Z
DTEND:20190612T231500Z
X-MICROSOFT-CDO-ALLDAYEVENT:FALSE
SUMMARY:Cosmic Comedy Magic with Gordon Russ
DESCRIPTION:Gordon Russ presents a hilarious interactive magic show.
X-ALT-DESC;FMTTYPE=text/html:Gordon Russ presents a hilarious interactive magic show.
LOCATION:Granville Public Library
UID:e.180.12664
SEQUENCE:3
DTSTAMP:20260420T080745Z
URL:http://business.granvilleoh.com/events/details/cosmic-comedy-magic-with-gordon-russ-12664
END:VEVENT

END:VCALENDAR
