BEGIN:VCALENDAR
VERSION:2.0
PRODID:-//ChamberMaster//Event Calendar 2.0//EN
METHOD:PUBLISH
X-PUBLISHED-TTL:P3D
REFRESH-INTERVAL:P3D
CALSCALE:GREGORIAN
BEGIN:VEVENT
DTSTART:20191025T220000Z
DTEND:20191025T230000Z
X-MICROSOFT-CDO-ALLDAYEVENT:FALSE
SUMMARY:Costume Fashion Show
DESCRIPTION:Model your costume on the runway or just come to see the latest in Halloween fashion. For families. No entry after 6pm.
X-ALT-DESC;FMTTYPE=text/html:Model your costume on the runway or just come to see the latest in Halloween fashion. For families. No entry after 6pm.
LOCATION:Granville Public Library
UID:e.180.12884
SEQUENCE:3
DTSTAMP:20260422T132645Z
URL:http://business.granvilleoh.com/events/details/costume-fashion-show-12884
END:VEVENT

END:VCALENDAR
