BEGIN:VCALENDAR
VERSION:2.0
PRODID:-//ChamberMaster//Event Calendar 2.0//EN
METHOD:PUBLISH
X-PUBLISHED-TTL:P3D
REFRESH-INTERVAL:P3D
CALSCALE:GREGORIAN
BEGIN:VEVENT
DTSTART:20181026T213000Z
DTEND:20181026T230000Z
X-MICROSOFT-CDO-ALLDAYEVENT:FALSE
SUMMARY:Crafting Madness: Franken-Animals
DESCRIPTION:Channel your inner Dr. Frankenstein! We'll be exercising a bit of creative destruction to take apart stuffed animals and re-assembling them into new\, unique creatures. Grades 7-12
X-ALT-DESC;FMTTYPE=text/html:Channel your inner Dr. Frankenstein! We&#39\;ll be exercising a bit of creative destruction to take apart stuffed animals and re-assembling them into new\, unique creatures. Grades 7-12
LOCATION:Granville Public Library
UID:e.180.12140
SEQUENCE:3
DTSTAMP:20260419T210326Z
URL:http://business.granvilleoh.com/events/details/crafting-madness-franken-animals-12140
END:VEVENT

END:VCALENDAR
