BEGIN:VCALENDAR
VERSION:2.0
PRODID:-//ChamberMaster//Event Calendar 2.0//EN
METHOD:PUBLISH
X-PUBLISHED-TTL:P3D
REFRESH-INTERVAL:P3D
CALSCALE:GREGORIAN
BEGIN:VEVENT
DTSTART:20190118T000000Z
DTEND:20190118T013000Z
X-MICROSOFT-CDO-ALLDAYEVENT:FALSE
SUMMARY:CSI Leicester: The Cold Case of King Richard III
DESCRIPTION:Denison Professors Dave Goodwin (Geosciences) and Fred Porcheddu (English) discuss the legend of King Richard III\, whose skeletal remains were discovered under a parking lot in central England in 2012. Dave and Fred will explain the origins of Richard's villainous reputation\, and explore how scientific and historical advances challenge what we thought we knew about this elusive 15th-century royal.
X-ALT-DESC;FMTTYPE=text/html:Denison Professors Dave Goodwin (Geosciences) and Fred Porcheddu (English) discuss the legend of King Richard III\, whose skeletal remains were discovered under a parking lot in central England in 2012. Dave and Fred will explain the origins of Richard&#39\;s villainous reputation\, and explore how scientific and historical advances challenge what we thought we knew about this elusive 15th-century royal.
LOCATION:Granville Public Library
UID:e.180.12293
SEQUENCE:3
DTSTAMP:20260420T023413Z
URL:http://business.granvilleoh.com/events/details/csi-leicester-the-cold-case-of-king-richard-iii-12293
END:VEVENT

END:VCALENDAR
