BEGIN:VCALENDAR
VERSION:2.0
PRODID:-//ChamberMaster//Event Calendar 2.0//EN
METHOD:PUBLISH
X-PUBLISHED-TTL:P3D
REFRESH-INTERVAL:P3D
CALSCALE:GREGORIAN
BEGIN:VEVENT
DTSTART:20190725T223000Z
DTEND:20190726T003000Z
X-MICROSOFT-CDO-ALLDAYEVENT:FALSE
SUMMARY:Dark Matter: A Galactic Murder Mystery
DESCRIPTION:During your travels through space\, you make a stop at Federal Station Nine in the Axilon Nebula for food and refueling. Unbeknownst to you\, a murder is in progress. You're stuck in a vortex of mystery. Help solve this murder mystery by investigating your fellow space travelers. Cosplay welcome! Rising 7-12 grade.
X-ALT-DESC;FMTTYPE=text/html:During your travels through space\, you make a stop at Federal Station Nine in the Axilon Nebula for food and refueling. Unbeknownst to you\, a murder is in progress. You&#39\;re stuck in a vortex of mystery. Help solve this murder mystery by investigating your fellow space travelers. Cosplay welcome! Rising 7-12 grade.
LOCATION:Granville Public Library
UID:e.180.12744
SEQUENCE:3
DTSTAMP:20260422T102528Z
URL:http://business.granvilleoh.com/events/details/dark-matter-a-galactic-murder-mystery-12744
END:VEVENT

END:VCALENDAR
