BEGIN:VCALENDAR
VERSION:2.0
PRODID:-//ChamberMaster//Event Calendar 2.0//EN
METHOD:PUBLISH
X-PUBLISHED-TTL:P3D
REFRESH-INTERVAL:P3D
CALSCALE:GREGORIAN
BEGIN:VEVENT
DTSTART:20190406T213000Z
DTEND:20190406T233000Z
X-MICROSOFT-CDO-ALLDAYEVENT:FALSE
SUMMARY:Days of Story Pod-a-palooza
DESCRIPTION:Denison University's Center for Narrative Journalism presents Days of Story Pod-a-palooza.\nThe evening will include Audio stories\, radio producers\, awards\, and food.
X-ALT-DESC;FMTTYPE=text/html:<span style="background-color:transparent\; color:rgb(0\, 0\, 0)\; font-family:arial\; font-size:11pt">Denison University&#39\;s Center for Narrative Journalism presents Days of Story Pod-a-palooza.</span>\n<p><span style="background-color:transparent\; color:rgb(0\, 0\, 0)\; font-family:arial\; font-size:11pt">The evening will include Audio stories\, radio producers\, awards\, and food.</span></p>\n<br />\n&nbsp\;
LOCATION:Denison University Burton Morgan Lecture Hall
UID:e.180.12447
SEQUENCE:3
DTSTAMP:20260420T064811Z
URL:http://business.granvilleoh.com/events/details/days-of-story-pod-a-palooza-12447
END:VEVENT

END:VCALENDAR
