BEGIN:VCALENDAR
VERSION:2.0
PRODID:-//ChamberMaster//Event Calendar 2.0//EN
METHOD:PUBLISH
X-PUBLISHED-TTL:P3D
REFRESH-INTERVAL:P3D
CALSCALE:GREGORIAN
BEGIN:VEVENT
DTSTART:20181215T000000Z
DTEND:20181215T010000Z
X-MICROSOFT-CDO-ALLDAYEVENT:FALSE
SUMMARY:December music events at Denison
DESCRIPTION:The Department of Music presents a concert by the Bluegrass Ensemble\, directed by Adam Schlenker.
X-ALT-DESC;FMTTYPE=text/html:<p><span style="background-color:transparent\; color:rgb(0\, 0\, 0)\; font-family:arial\; font-size:11pt">The Department of Music presents a concert by the Bluegrass Ensemble\, directed by Adam Schlenker.</span></p>\n
LOCATION:Denison University Swasey Chapel 200 Chapel Drive
UID:e.180.12223
SEQUENCE:3
DTSTAMP:20260419T234624Z
URL:http://business.granvilleoh.com/events/details/december-music-events-at-denison-12-14-2018-12223
END:VEVENT

END:VCALENDAR
