BEGIN:VCALENDAR
VERSION:2.0
PRODID:-//ChamberMaster//Event Calendar 2.0//EN
METHOD:PUBLISH
X-PUBLISHED-TTL:P3D
REFRESH-INTERVAL:P3D
CALSCALE:GREGORIAN
BEGIN:VEVENT
DTSTART:20180404T203000Z
DTEND:20180404T220000Z
X-MICROSOFT-CDO-ALLDAYEVENT:FALSE
SUMMARY:Denison: '50 Years After King'
DESCRIPTION:The Black Studies Program presents a roundtable discussion titled "50 Years After King: Where Were We Then? Where Are We Now?" Faculty and students will lead a discussion asking where are we today on the important issues of race\, gender\, immigration\, and economic inequality.
X-ALT-DESC;FMTTYPE=text/html:The Black Studies Program presents a roundtable discussion titled &ldquo\;50 Years After King: Where Were We Then? Where Are We Now?&rdquo\; Faculty and students will lead a discussion asking where are we today on the important issues of race\, gender\, immigration\, and economic inequality.
LOCATION:Huffman Dining Hall\, Presidents' Dining Room\, 450 Chapel Drive\, Granville\, OH 43023
UID:e.180.11881
SEQUENCE:3
DTSTAMP:20260421T100627Z
URL:http://business.granvilleoh.com/events/details/denison-50-years-after-king-11881
END:VEVENT

END:VCALENDAR
