BEGIN:VCALENDAR
VERSION:2.0
PRODID:-//ChamberMaster//Event Calendar 2.0//EN
METHOD:PUBLISH
X-PUBLISHED-TTL:P3D
REFRESH-INTERVAL:P3D
CALSCALE:GREGORIAN
BEGIN:VEVENT
DTSTART:20180426T233000Z
DTEND:20180427T010000Z
X-MICROSOFT-CDO-ALLDAYEVENT:FALSE
SUMMARY:Denison: 'Activating/Performance\\Activism'
DESCRIPTION:What does it mean to perform protest? How can we activate activism in new creative ways? Laura C. Harris Scholar-in-Residence Gabrielle Civil has been working with Denison University students to explore these questions. In the semester-long "Activating / Performance \\ Activism" project\, students research experimental art making\; connect with local and visiting performers/ artists/ activists\; and conduct deep research into social movements and social justice issues. This dynamic event is the culmination of that process. Sharing course insights and premiering live art actions\, Civil and students will showcase\, perform and propose experimental art strategies for social change.
X-ALT-DESC;FMTTYPE=text/html:What does it mean to perform protest? How can we activate activism in new creative ways? Laura C. Harris Scholar-in-Residence Gabrielle Civil has been working with Denison University students to explore these questions. In the semester-long &ldquo\;Activating / Performance \\ Activism&rdquo\; project\, students research experimental art making\; connect with local and visiting performers/ artists/ activists\; and conduct deep research into social movements and social justice issues. This dynamic event is the culmination of that process. Sharing course insights and premiering live art actions\, Civil and students will showcase\, perform and propose experimental art strategies for social change.
LOCATION:Knapp Performance Space\, Denison University\, 300 Ridge Road\, Granville\, OH 43023
UID:e.180.11904
SEQUENCE:3
DTSTAMP:20260421T081142Z
URL:http://business.granvilleoh.com/events/details/denison-activating-performance-activism-11904
END:VEVENT

END:VCALENDAR
