BEGIN:VCALENDAR
VERSION:2.0
PRODID:-//ChamberMaster//Event Calendar 2.0//EN
METHOD:PUBLISH
X-PUBLISHED-TTL:P3D
REFRESH-INTERVAL:P3D
CALSCALE:GREGORIAN
BEGIN:VEVENT
DTSTART:20190503T230000Z
DTEND:20190504T000000Z
X-MICROSOFT-CDO-ALLDAYEVENT:FALSE
SUMMARY:Denison Bluegrass concert
DESCRIPTION:The Denison Department of Music presents a Bluegrass concert with director Adam Schlenker.
X-ALT-DESC;FMTTYPE=text/html:<span style="color:rgb(0\, 0\, 0)\; font-family:arial\; font-size:11pt">The Denison Department of Music presents a Bluegrass concert with director Adam Schlenker.</span>
LOCATION:Denison University Swasey Chapel 200 Chapel Drive
UID:e.180.12610
SEQUENCE:3
DTSTAMP:20260420T075940Z
URL:http://business.granvilleoh.com/events/details/denison-bluegrass-concert-05-03-2019-12610
END:VEVENT

END:VCALENDAR
