BEGIN:VCALENDAR
VERSION:2.0
PRODID:-//ChamberMaster//Event Calendar 2.0//EN
METHOD:PUBLISH
X-PUBLISHED-TTL:P3D
REFRESH-INTERVAL:P3D
CALSCALE:GREGORIAN
BEGIN:VEVENT
DTSTART:20191214T000000Z
DTEND:20191214T010000Z
X-MICROSOFT-CDO-ALLDAYEVENT:FALSE
SUMMARY:Denison Bluegrass Ensemble Concert
DESCRIPTION:The Department of Music presents a Bluegrass Ensemble concert\, directed by Adam Schlenker and featuring guest artist\, Megan Lynch-Chowning.
X-ALT-DESC;FMTTYPE=text/html:<span style="color:rgb(0\, 0\, 0)\; font-family:arial\; font-size:11pt">The Department of Music presents a Bluegrass Ensemble concert\, directed by Adam Schlenker and featuring guest artist\, Megan Lynch-Chowning.</span>
LOCATION:Denison University Swasey Chapel 200 Chapel Drive
UID:e.180.13964
SEQUENCE:3
DTSTAMP:20260422T160834Z
URL:http://business.granvilleoh.com/events/details/denison-bluegrass-ensemble-concert-12-13-2019-13964
END:VEVENT

END:VCALENDAR
