BEGIN:VCALENDAR
VERSION:2.0
PRODID:-//ChamberMaster//Event Calendar 2.0//EN
METHOD:PUBLISH
X-PUBLISHED-TTL:P3D
REFRESH-INTERVAL:P3D
CALSCALE:GREGORIAN
BEGIN:VEVENT
DTSTART:20180406T160000Z
DTEND:20180406T173000Z
X-MICROSOFT-CDO-ALLDAYEVENT:FALSE
SUMMARY:Denison: Central Asia Textile Exhibition
DESCRIPTION:Denison University presents a Central Asia textile exhibition with an artist talk by members of VOICES International Art Initiative. The exhibit is on display in the Provost Dining Room from April 5 to April 6. Examples of traditional textiles\, including weaving\, embroidery\, felt\, patchwork\, will be displayed to show the cultural traditions from regions of Kyrgyzstan\, Uzbekistan\, Tajikistan\, Kazakhstan\, and beyond. Some objects are contemporary and some are from the beginning of the last century. Come for a peek into the diverse textile traditions of Central Asia.
X-ALT-DESC;FMTTYPE=text/html:Denison University presents a Central Asia textile exhibition with an artist talk by members of VOICES International Art Initiative. The exhibit is on display in the Provost Dining Room from April 5 to April 6. Examples of traditional textiles\, including weaving\, embroidery\, felt\, patchwork\, will be displayed to show the cultural traditions from regions of Kyrgyzstan\, Uzbekistan\, Tajikistan\, Kazakhstan\, and beyond. Some objects are contemporary and some are from the beginning of the last century. Come for a peek into the diverse textile traditions of Central Asia.
LOCATION:Curtis Dining Hall\, Provost Dining Room\, Denison University\, 100 Smith Lane\, Granville\, OH 43023
UID:e.180.11884
SEQUENCE:3
DTSTAMP:20260421T083700Z
URL:http://business.granvilleoh.com/events/details/denison-central-asia-textile-exhibition-11884
END:VEVENT

END:VCALENDAR
