BEGIN:VCALENDAR
VERSION:2.0
PRODID:-//ChamberMaster//Event Calendar 2.0//EN
METHOD:PUBLISH
X-PUBLISHED-TTL:P3D
REFRESH-INTERVAL:P3D
CALSCALE:GREGORIAN
BEGIN:VEVENT
DTSTART:20180418T210000Z
DTEND:20180418T223000Z
X-MICROSOFT-CDO-ALLDAYEVENT:FALSE
SUMMARY:Denison: Central Asian students in U.S. Schools
DESCRIPTION:Denison University presents a panel of students from Denison and Kenyon College discussing "What it means to be a Central Asian student in a U.S. school." This year's Celebration of Central Asia\, which takes place from March 26 to April 18 at various locations on the Denison campus\, features a textile exhibit\, panel discussion\, student-led panel and multiple lectures. For more information\, visit Denison.edu.
X-ALT-DESC;FMTTYPE=text/html:Denison University presents a panel of students from Denison and Kenyon College discussing &ldquo\;What it means to be a Central Asian student in a U.S. school.&rdquo\; This year&rsquo\;s Celebration of Central Asia\, which takes place from March 26 to April 18 at various locations on the Denison campus\, features a textile exhibit\, panel discussion\, student-led panel and multiple lectures. For more information\, visit Denison.edu.
LOCATION:Burton D. Morgan Center\, Lecture Hall\, Denison University\, 150 Ridge Road\, Granville\, OH 43023
UID:e.180.11902
SEQUENCE:3
DTSTAMP:20260421T081501Z
URL:http://business.granvilleoh.com/events/details/denison-central-asian-students-in-u-s-schools-11902
END:VEVENT

END:VCALENDAR
