BEGIN:VCALENDAR
VERSION:2.0
PRODID:-//ChamberMaster//Event Calendar 2.0//EN
METHOD:PUBLISH
X-PUBLISHED-TTL:P3D
REFRESH-INTERVAL:P3D
CALSCALE:GREGORIAN
BEGIN:VEVENT
DTSTART:20180502T230000Z
DTEND:20180503T003000Z
X-MICROSOFT-CDO-ALLDAYEVENT:FALSE
SUMMARY:Denison: Chamber Music concert
DESCRIPTION:The Department of Music presents a chamber music concert under the direction of Ryan Hamilton\, Cora Kuyvenhoven\, Evan Lynch\, Leslie Masser\, Deborah Price\, and Steve Rosenberg.
X-ALT-DESC;FMTTYPE=text/html:The Department of Music presents a chamber music concert under the direction of Ryan Hamilton\, Cora Kuyvenhoven\, Evan Lynch\, Leslie Masser\, Deborah Price\, and Steve Rosenberg.
LOCATION:Burke Hall\, Recital Hall\, Denison University\, 240 West Broadway\, Granville\, OH 43023
UID:e.180.11934
SEQUENCE:3
DTSTAMP:20260421T095044Z
URL:http://business.granvilleoh.com/events/details/denison-chamber-music-concert-05-02-2018-11934
END:VEVENT

END:VCALENDAR
