BEGIN:VCALENDAR
VERSION:2.0
PRODID:-//ChamberMaster//Event Calendar 2.0//EN
METHOD:PUBLISH
X-PUBLISHED-TTL:P3D
REFRESH-INTERVAL:P3D
CALSCALE:GREGORIAN
BEGIN:VEVENT
DTSTART:20191212T000000Z
DTEND:20191212T010000Z
X-MICROSOFT-CDO-ALLDAYEVENT:FALSE
SUMMARY:Denison Chamber Music Concert
DESCRIPTION:The Department of Music presents Chamber Music Concert.
X-ALT-DESC;FMTTYPE=text/html:<span style="color:rgb(0\, 0\, 0)\; font-family:arial\; font-size:11pt">The Department of Music presents Chamber Music Concert.</span>
LOCATION:Denison University Burke Recital Hall of the Michael D. Eisner Center for the Performing Arts 240 West Broadway
UID:e.180.13961
SEQUENCE:3
DTSTAMP:20260422T161337Z
URL:http://business.granvilleoh.com/events/details/denison-chamber-music-concert-12-11-2019-13961
END:VEVENT

END:VCALENDAR
