BEGIN:VCALENDAR
VERSION:2.0
PRODID:-//ChamberMaster//Event Calendar 2.0//EN
METHOD:PUBLISH
X-PUBLISHED-TTL:P3D
REFRESH-INTERVAL:P3D
CALSCALE:GREGORIAN
BEGIN:VEVENT
DTSTART:20190501T230000Z
DTEND:20190502T000000Z
X-MICROSOFT-CDO-ALLDAYEVENT:FALSE
SUMMARY:Denison Chamber Music Ensembles
DESCRIPTION:The Denison Department of Music presents a concert by the chamber music ensembles\, with Ryan Hamilton\, Cora Kuyvenhoven\, Evan Lynch\, Leslie Maaser\, Pete Mills and Steve Rosenberg.
X-ALT-DESC;FMTTYPE=text/html:<span style="color:rgb(0\, 0\, 0)\; font-family:times new roman\; font-size:12pt">The Denison Department of Music present</span><span style="color:rgb(0\, 0\, 0)\; font-family:arial\; font-size:11pt">s a concert by the chamber music ensembles\, with Ryan Hamilton\, Cora Kuyvenhoven\, Evan Lynch\, Leslie Maaser\, Pete Mills and Steve Rosenberg.</span>
LOCATION:Denison University Recital Hall of the Burke Hall of Music and Art 240 West Broadway
UID:e.180.12608
SEQUENCE:3
DTSTAMP:20260420T064318Z
URL:http://business.granvilleoh.com/events/details/denison-chamber-music-ensembles-12608
END:VEVENT

END:VCALENDAR
