BEGIN:VCALENDAR
VERSION:2.0
PRODID:-//ChamberMaster//Event Calendar 2.0//EN
METHOD:PUBLISH
X-PUBLISHED-TTL:P3D
REFRESH-INTERVAL:P3D
CALSCALE:GREGORIAN
BEGIN:VEVENT
DTSTART:20191024T233000Z
DTEND:20191025T010000Z
X-MICROSOFT-CDO-ALLDAYEVENT:FALSE
SUMMARY:Denison Chamber Singers concert 'Salutation'
DESCRIPTION:The Denison Department of Music presents the Denison Chamber Singers concert "Salutation."
X-ALT-DESC;FMTTYPE=text/html:<span style="color:rgb(0\, 0\, 0)\; font-family:arial\; font-size:11pt">The Denison Department of Music presents the Denison Chamber Singers concert &ldquo\;Salutation.&rdquo\; </span>
LOCATION:Denison University Burke Recital Hall of the Michael D. Eisner Center for the Performing Arts 240 West Broadway
UID:e.180.12899
SEQUENCE:3
DTSTAMP:20260422T131525Z
URL:http://business.granvilleoh.com/events/details/denison-chamber-singers-concert-salutation-12899
END:VEVENT

END:VCALENDAR
