BEGIN:VCALENDAR
VERSION:2.0
PRODID:-//ChamberMaster//Event Calendar 2.0//EN
METHOD:PUBLISH
X-PUBLISHED-TTL:P3D
REFRESH-INTERVAL:P3D
CALSCALE:GREGORIAN
BEGIN:VEVENT
DTSTART:20190312T230000Z
DTEND:20190313T000000Z
X-MICROSOFT-CDO-ALLDAYEVENT:FALSE
SUMMARY:Denison Chamber Singers in concert
DESCRIPTION:The Department of Music presents the Denison Chamber Singers in concert with director Joel Garber.
X-ALT-DESC;FMTTYPE=text/html:<span style="color:rgb(0\, 0\, 0)\; font-family:arial\; font-size:11pt">The Department of Music presents the Denison Chamber Singers in concert with director Joel Garber.</span>
LOCATION:Denison University Burke Hall of Music and Arts\, Recital Hall 240 West Broadway
UID:e.180.12486
SEQUENCE:3
DTSTAMP:20260420T035048Z
URL:http://business.granvilleoh.com/events/details/denison-chamber-singers-in-concert-12486
END:VEVENT

END:VCALENDAR
