BEGIN:VCALENDAR
VERSION:2.0
PRODID:-//ChamberMaster//Event Calendar 2.0//EN
METHOD:PUBLISH
X-PUBLISHED-TTL:P3D
REFRESH-INTERVAL:P3D
CALSCALE:GREGORIAN
BEGIN:VEVENT
DTSTART:20180422T210000Z
DTEND:20180422T223000Z
X-MICROSOFT-CDO-ALLDAYEVENT:FALSE
SUMMARY:Denison: 'Colonial Choreography'
DESCRIPTION:The Department of Dance welcomes Vail visiting artist Sudesh Mantillake presenting "Colonial Choreography and Choreographing Colonialism." Mantillake\, trained in the traditional Kandyan Dance of Sri Lanka\, will discuss his research on Sri Lankan performers who were brought to Europe and the U.S. for colonial exhibitions. Mantillake is a dancer\, choreographer\, researcher\, and an educator\, has recently received his doctorate from the School of Theatre\, Dance\, and Performance Studies at the University of Maryland.
X-ALT-DESC;FMTTYPE=text/html:The Department of Dance welcomes Vail visiting artist Sudesh Mantillake presenting &ldquo\;Colonial Choreography and Choreographing Colonialism.&rdquo\; Mantillake\, trained in the traditional Kandyan Dance of Sri Lanka\, will discuss his research on Sri Lankan performers who were brought to Europe and the U.S. for colonial exhibitions. Mantillake is a dancer\, choreographer\, researcher\, and an educator\, has recently received his doctorate from the School of Theatre\, Dance\, and Performance Studies at the University of Maryland.
LOCATION:Knapp Performance Space\, Denison University\, 300 Ridge Road\, Granville\, OH 43023
UID:e.180.11910
SEQUENCE:3
DTSTAMP:20260421T083537Z
URL:http://business.granvilleoh.com/events/details/denison-colonial-choreography-11910
END:VEVENT

END:VCALENDAR
