BEGIN:VCALENDAR
VERSION:2.0
PRODID:-//ChamberMaster//Event Calendar 2.0//EN
METHOD:PUBLISH
X-PUBLISHED-TTL:P3D
REFRESH-INTERVAL:P3D
CALSCALE:GREGORIAN
BEGIN:VEVENT
DTSTART:20191206T230000Z
DTEND:20191207T000000Z
X-MICROSOFT-CDO-ALLDAYEVENT:FALSE
SUMMARY:Denison Computer Music Concert
DESCRIPTION:The Department of Music presents a computer music concert.
X-ALT-DESC;FMTTYPE=text/html:<span style="color:rgb(0\, 0\, 0)\; font-family:arial\; font-size:11pt">The Department of Music presents a computer music concert.</span>
LOCATION:Denison University Knapp Performance Lab 300 Ridge Road
UID:e.180.13960
SEQUENCE:3
DTSTAMP:20260422T160956Z
URL:http://business.granvilleoh.com/events/details/denison-computer-music-concert-12-06-2019-13960
END:VEVENT

END:VCALENDAR
