BEGIN:VCALENDAR
VERSION:2.0
PRODID:-//ChamberMaster//Event Calendar 2.0//EN
METHOD:PUBLISH
X-PUBLISHED-TTL:P3D
REFRESH-INTERVAL:P3D
CALSCALE:GREGORIAN
BEGIN:VEVENT
DTSTART:20190504T230000Z
DTEND:20190505T000000Z
X-MICROSOFT-CDO-ALLDAYEVENT:FALSE
SUMMARY:Denison Concert Choir and Chamber Singers
DESCRIPTION:The Denison Department of Music presents the Denison Concert Choir and Chamber Singers in concert with conductor Joel Garber.
X-ALT-DESC;FMTTYPE=text/html:<span style="font-size:14px"><span style="font-family:arial\,helvetica\,sans-serif"><span style="color:rgb(0\, 0\, 0)">The Denison Department of Music presents the Denison Concert Choir and Chamber Singers in concert with conductor Joel Garber.</span></span></span>
LOCATION:Denison University Swasey Chapel 200 Chapel Drive
UID:e.180.12611
SEQUENCE:3
DTSTAMP:20260420T064950Z
URL:http://business.granvilleoh.com/events/details/denison-concert-choir-and-chamber-singers-12611
END:VEVENT

END:VCALENDAR
