BEGIN:VCALENDAR
VERSION:2.0
PRODID:-//ChamberMaster//Event Calendar 2.0//EN
METHOD:PUBLISH
X-PUBLISHED-TTL:P3D
REFRESH-INTERVAL:P3D
CALSCALE:GREGORIAN
BEGIN:VEVENT
DTSTART:20191213T000000Z
DTEND:20191213T010000Z
X-MICROSOFT-CDO-ALLDAYEVENT:FALSE
SUMMARY:Denison Concert Choir and Chamber Singers present “The Passing of the Year”
DESCRIPTION:The Denison Concert Choir and Chamber Singers present ?The Passing of the Year\,? a concert that meditates on the inevitable nature of the changing of the seasons.
X-ALT-DESC;FMTTYPE=text/html:<span style="color:rgb(0\, 0\, 0)\; font-family:arial\; font-size:11pt">The Denison Concert Choir and Chamber Singers present ?The Passing of the Year\,? a concert that meditates on the inevitable nature of the changing of the seasons.</span>
LOCATION:Denison University Swasey Chapel 200 Chapel Drive
UID:e.180.13963
SEQUENCE:3
DTSTAMP:20260422T161315Z
URL:http://business.granvilleoh.com/events/details/denison-concert-choir-and-chamber-singers-present-the-passing-of-the-year-13963
END:VEVENT

END:VCALENDAR
