BEGIN:VCALENDAR
VERSION:2.0
PRODID:-//ChamberMaster//Event Calendar 2.0//EN
METHOD:PUBLISH
X-PUBLISHED-TTL:P3D
REFRESH-INTERVAL:P3D
CALSCALE:GREGORIAN
BEGIN:VEVENT
DTSTART:20190927T230000Z
DTEND:20190928T000000Z
X-MICROSOFT-CDO-ALLDAYEVENT:FALSE
SUMMARY:Denison Faculty Jazz Concert
DESCRIPTION:The Department of Music at Denison University presents its first music concert of the year. The Denison Jazz Faculty Concert will showcase original music composed and performed by the Denison University Jazz Studies Faculty.
X-ALT-DESC;FMTTYPE=text/html:<span style="background-color:transparent\; color:rgb(0\, 0\, 0)\; font-family:arial\; font-size:11pt">The Department of Music at Denison University presents its first music concert of the year. The Denison Jazz Faculty Concert will showcase original music composed and performed by the Denison University Jazz Studies Faculty.</span>
LOCATION:Denison University Michael D. Eisner Center for the Performing Arts Sharon Martin Hall 240 W. Broadway
UID:e.180.12808
SEQUENCE:3
DTSTAMP:20260422T131551Z
URL:http://business.granvilleoh.com/events/details/denison-faculty-jazz-concert-12808
END:VEVENT

END:VCALENDAR
