BEGIN:VCALENDAR
VERSION:2.0
PRODID:-//ChamberMaster//Event Calendar 2.0//EN
METHOD:PUBLISH
X-PUBLISHED-TTL:P3D
REFRESH-INTERVAL:P3D
CALSCALE:GREGORIAN
BEGIN:VEVENT
DTSTART:20191205T000000Z
DTEND:20191205T010000Z
X-MICROSOFT-CDO-ALLDAYEVENT:FALSE
SUMMARY:Denison Faculty Recital
DESCRIPTION:The Department of Music presents a faculty recital featuring Hanna Hurwitz\, assistant professor of music and coordinator of string studies.
X-ALT-DESC;FMTTYPE=text/html:<span style="color:rgb(0\, 0\, 0)\; font-family:arial\; font-size:11pt">The Department of Music presents a faculty recital featuring Hanna Hurwitz\, assistant professor of music and coordinator of string studies.</span>
LOCATION:Denison University Burke Recital Hall of the Michael D. Eisner Center for the Performing Arts 240 West Broadway
UID:e.180.13958
SEQUENCE:3
DTSTAMP:20260422T160834Z
URL:http://business.granvilleoh.com/events/details/denison-faculty-recital-12-04-2019-13958
END:VEVENT

END:VCALENDAR
