BEGIN:VCALENDAR
VERSION:2.0
PRODID:-//ChamberMaster//Event Calendar 2.0//EN
METHOD:PUBLISH
X-PUBLISHED-TTL:P3D
REFRESH-INTERVAL:P3D
CALSCALE:GREGORIAN
BEGIN:VEVENT
DTSTART:20180422T000000Z
DTEND:20180422T013000Z
X-MICROSOFT-CDO-ALLDAYEVENT:FALSE
SUMMARY:Denison: Film screening of 'Kingsman'
DESCRIPTION:The Denison Film Society presents a screening of the 2014 action adventure movie "Kingsman: The Secret Service." A spy organization recruits an unrefined\, but promising street kid into the agency's ultra-competitive training program\, just as a global threat emerges from a twisted tech genius.
X-ALT-DESC;FMTTYPE=text/html:The Denison Film Society presents a screening of the 2014 action adventure movie &ldquo\;Kingsman: The Secret Service.&rdquo\; A spy organization recruits an unrefined\, but promising street kid into the agency&rsquo\;s ultra-competitive training program\, just as a global threat emerges from a twisted tech genius.
LOCATION:Slayter Hall\, Auditorium\, Denison University\, 200 Ridge Road\, Granville\, OH 43023
UID:e.180.11908
SEQUENCE:3
DTSTAMP:20260421T083816Z
URL:http://business.granvilleoh.com/events/details/denison-film-screening-of-kingsman-11908
END:VEVENT

END:VCALENDAR
