BEGIN:VCALENDAR
VERSION:2.0
PRODID:-//ChamberMaster//Event Calendar 2.0//EN
METHOD:PUBLISH
X-PUBLISHED-TTL:P3D
REFRESH-INTERVAL:P3D
CALSCALE:GREGORIAN
BEGIN:VEVENT
DTSTART:20190505T230000Z
DTEND:20190506T000000Z
X-MICROSOFT-CDO-ALLDAYEVENT:FALSE
SUMMARY:Denison Gospel Choir Concert
DESCRIPTION:The Denison Department of Music presents the Denison Gospel Choir in concert with director Tim Carpenter.
X-ALT-DESC;FMTTYPE=text/html:<span style="font-size:14px"><span style="color:rgb(0\, 0\, 0)">The Denison Department of Music presents the&nbsp\;</span><span style="color:rgb(0\, 0\, 0)\; font-family:arial">Denison Gospel Choir in concert with director Tim Carpenter.</span></span>
LOCATION:Denison University Swasey Chapel 200 Chapel Drive
UID:e.180.12612
SEQUENCE:3
DTSTAMP:20260420T065040Z
URL:http://business.granvilleoh.com/events/details/denison-gospel-choir-concert-05-05-2019-12612
END:VEVENT

END:VCALENDAR
