BEGIN:VCALENDAR
VERSION:2.0
PRODID:-//ChamberMaster//Event Calendar 2.0//EN
METHOD:PUBLISH
X-PUBLISHED-TTL:P3D
REFRESH-INTERVAL:P3D
CALSCALE:GREGORIAN
BEGIN:VEVENT
DTSTART:20191215T000000Z
DTEND:20191215T010000Z
X-MICROSOFT-CDO-ALLDAYEVENT:FALSE
SUMMARY:Denison Gospel Choir presents 'The Spirit of the Holidays'
DESCRIPTION:Denison University Gospel Choir presents ?The Spirit of the Holidays\,? see and hear students from many different cultures join together to sing powerful songs of inspiration in the holiday spirit\; under the direction of Rev. Tim Carpenter.
X-ALT-DESC;FMTTYPE=text/html:<span style="color:rgb(0\, 0\, 0)\; font-family:arial\; font-size:11pt">Denison University Gospel Choir presents ?The Spirit of the Holidays\,? see and hear students from many different cultures join together to sing powerful songs of inspiration in the holiday spirit\; under the direction of Rev. Tim Carpenter.</span>
LOCATION:Denison University Swasey Chapel 200 Chapel Drive
UID:e.180.13965
SEQUENCE:3
DTSTAMP:20260422T161448Z
URL:http://business.granvilleoh.com/events/details/denison-gospel-choir-presents-the-spirit-of-the-holidays-13965
END:VEVENT

END:VCALENDAR
