BEGIN:VCALENDAR
VERSION:2.0
PRODID:-//ChamberMaster//Event Calendar 2.0//EN
METHOD:PUBLISH
X-PUBLISHED-TTL:P3D
REFRESH-INTERVAL:P3D
CALSCALE:GREGORIAN
BEGIN:VEVENT
DTSTART:20180416T233000Z
DTEND:20180417T010000Z
X-MICROSOFT-CDO-ALLDAYEVENT:FALSE
SUMMARY:Denison: 'Introducing Global Content'
DESCRIPTION:The Global Studies Seminar welcomes Nausica Marcos Miguel\, assistant professor of Spanish at Denison\, presenting "Introducing Global Content in Intermediate Language Courses." This presentation will discuss how to include global topics in intermediate language classes. In the presentation\, textbooks utilized in different courses will be examined\, seeking points where global topics could enhance the curriculum. Moreover\, the approaches of content-based instruction\, critical pedagogies as well as the recommendations of the American Council on the Teaching of Foreign Languages (ACTFL) will be discussed.
X-ALT-DESC;FMTTYPE=text/html:The Global Studies Seminar welcomes Nausica Marcos Miguel\, assistant professor of Spanish at Denison\, presenting &ldquo\;Introducing Global Content in Intermediate Language Courses.&rdquo\; This presentation will discuss how to include global topics in intermediate language classes. In the presentation\, textbooks utilized in different courses will be examined\, seeking points where global topics could enhance the curriculum. Moreover\, the approaches of content-based instruction\, critical pedagogies as well as the recommendations of the American Council on the Teaching of Foreign Languages (ACTFL) will be discussed.
LOCATION:Slayter Hall\, Shepardson College Room\, Denison University\, 200 Ridge Road\, Granville\, OH 43023
UID:e.180.11901
SEQUENCE:3
DTSTAMP:20260421T081055Z
URL:http://business.granvilleoh.com/events/details/denison-introducing-global-content-11901
END:VEVENT

END:VCALENDAR
