BEGIN:VCALENDAR
VERSION:2.0
PRODID:-//ChamberMaster//Event Calendar 2.0//EN
METHOD:PUBLISH
X-PUBLISHED-TTL:P3D
REFRESH-INTERVAL:P3D
CALSCALE:GREGORIAN
BEGIN:VEVENT
DTSTART:20190406T230000Z
DTEND:20190407T000000Z
X-MICROSOFT-CDO-ALLDAYEVENT:FALSE
SUMMARY:Denison Jazz Ensemble concert
DESCRIPTION:The Denison University Jazz Ensemble presents a concert\, directed by Pete Mills.
X-ALT-DESC;FMTTYPE=text/html:<span style="color:rgb(0\, 0\, 0)\; font-family:times new roman\; font-size:12pt">The Denison University Jazz Ensemble presents a concert\, directed by Pete Mills.</span>
LOCATION:Denison University Burke Hall of Music and Arts\, Recital Hall 240 West Broadway
UID:e.180.12525
SEQUENCE:3
DTSTAMP:20260420T050703Z
URL:http://business.granvilleoh.com/events/details/denison-jazz-ensemble-concert-04-06-2019-12525
END:VEVENT

END:VCALENDAR
