BEGIN:VCALENDAR
VERSION:2.0
PRODID:-//ChamberMaster//Event Calendar 2.0//EN
METHOD:PUBLISH
X-PUBLISHED-TTL:P3D
REFRESH-INTERVAL:P3D
CALSCALE:GREGORIAN
BEGIN:VEVENT
DTSTART:20191121T000000Z
DTEND:20191121T010000Z
X-MICROSOFT-CDO-ALLDAYEVENT:FALSE
SUMMARY:Denison Jazz Ensemble Concert
DESCRIPTION:The Department of Music presents a Jazz Ensemble performance\, directed by Pete Mills.
X-ALT-DESC;FMTTYPE=text/html:<p><span style="background-color:transparent\; color:rgb(0\, 0\, 0)\; font-family:arial\; font-size:11pt">The Department of Music presents a Jazz Ensemble performance\, directed by Pete Mills.</span></p>\n\n<div>&nbsp\;</div>\n\n<div>&nbsp\;</div>\n
LOCATION:Denison University Michael D. Eisner Center for the Performing Arts Sharon Martin Hall 240 W. Broadway
UID:e.180.12810
SEQUENCE:3
DTSTAMP:20260422T144206Z
URL:http://business.granvilleoh.com/events/details/denison-jazz-ensemble-concert-11-20-2019-12810
END:VEVENT

END:VCALENDAR
