BEGIN:VCALENDAR
VERSION:2.0
PRODID:-//ChamberMaster//Event Calendar 2.0//EN
METHOD:PUBLISH
X-PUBLISHED-TTL:P3D
REFRESH-INTERVAL:P3D
CALSCALE:GREGORIAN
BEGIN:VEVENT
DTSTART:20190410T233000Z
DTEND:20190411T003000Z
X-MICROSOFT-CDO-ALLDAYEVENT:FALSE
SUMMARY:Denison Junior Nicole Harris Recital
DESCRIPTION:Denison University's Department of Music welcomes Nicole Harris presenting a junior viola recital.
X-ALT-DESC;FMTTYPE=text/html:<span style="color:rgb(0\, 0\, 0)\; font-family:times new roman\; font-size:12pt">Denison University&#39\;s Department of Music welcomes Nicole Harris presenting a junior viola recital.</span>
LOCATION:Denison University Burke Hall of Music and Arts\, Recital Hall 240 West Broadway
UID:e.180.12526
SEQUENCE:3
DTSTAMP:20260420T062853Z
URL:http://business.granvilleoh.com/events/details/denison-junior-nicole-harris-recital-12526
END:VEVENT

END:VCALENDAR
