BEGIN:VCALENDAR
VERSION:2.0
PRODID:-//ChamberMaster//Event Calendar 2.0//EN
METHOD:PUBLISH
X-PUBLISHED-TTL:P3D
REFRESH-INTERVAL:P3D
CALSCALE:GREGORIAN
BEGIN:VEVENT
DTSTART:20191109T003000Z
DTEND:20191109T020000Z
X-MICROSOFT-CDO-ALLDAYEVENT:FALSE
SUMMARY:Denison Junior Piano Recital
DESCRIPTION:The Department of Music presents a junior piano recital with Shengbo Shi performing an exciting solo piano program by Haydn\, Grieg\, Tchaikovsky\, and Prokofiev.
X-ALT-DESC;FMTTYPE=text/html:<p><span style="color:rgb(0\, 0\, 0)\; font-family:arial\; font-size:11pt">The Department of Music presents </span><span style="background-color:transparent\; color:rgb(0\, 0\, 0)\; font-family:arial\; font-size:11pt">a junior piano recital with Shengbo Shi performing an exciting solo piano program by Haydn\, Grieg\, Tchaikovsky\, and Prokofiev.</span></p>\n\n<div>&nbsp\;</div>\n
LOCATION:Denison University Michael D. Eisner Center for the Performing Arts Burke Recital Hall 240 W. Broadway
UID:e.180.12913
SEQUENCE:3
DTSTAMP:20260422T144053Z
URL:http://business.granvilleoh.com/events/details/denison-junior-piano-recital-12913
END:VEVENT

END:VCALENDAR
